BEGIN:VCALENDAR
VERSION:2.0
PRODID:-//schulintern//kalender 1.0
METHOD:PUBLISH
CALSCALE:GREGORIAN
X-MICROSOFT-CALSCALE:GREGORIAN
X-WR-CALNAME:AKSintern
X-WR-CALDESC:Kalenderauswahl von aks\, Alfred-Krupp-Schule
X-WR-TIMEZONE:Europe/Berlin
X-WR-RELCALID:https://aks-essen.de/intern/k.php?u=12f5141d0ce03dda8e6695
X-PUBLISHED-TTL:PT30M
BEGIN:VEVENT
UID:31653
DTSTART;TZID=Europe/Berlin:20250712
STATUS:CONFIRMED
DTEND;TZID=Europe/Berlin:20250827
DTSTAMP:20260419T212357Z
CREATED:20260419T212357Z
LAST-MODIFIED:20260419T212357Z
SUMMARY:Sommerferien 2025
DESCRIPTION:
URL:https://aks-essen.de/intern/index.php?p=kalender&id=31653
END:VEVENT
BEGIN:VEVENT
UID:32013
DTSTART;TZID=Europe/Berlin:20250908
STATUS:CONFIRMED
DTEND;TZID=Europe/Berlin:20250912
DTSTAMP:20260419T212357Z
CREATED:20260419T212357Z
LAST-MODIFIED:20260419T212357Z
SUMMARY:Berlinfahrt der SV
DESCRIPTION:
URL:https://aks-essen.de/intern/index.php?p=kalender&id=32013
END:VEVENT
BEGIN:VEVENT
UID:32014
DTSTART;TZID=Europe/Berlin:20250915
STATUS:CONFIRMED
DTEND;TZID=Europe/Berlin:20250916
X-MICROSOFT-CDO-ALLDAYEVENT:TRUE
DTSTAMP:20260419T212357Z
CREATED:20260419T212357Z
LAST-MODIFIED:20260419T212357Z
SUMMARY:Info Berufsfelderkundung Klasse 8 (17\:15 Uhr)
DESCRIPTION:
URL:https://aks-essen.de/intern/index.php?p=kalender&id=32014
END:VEVENT
BEGIN:VEVENT
UID:32015
DTSTART;TZID=Europe/Berlin:20250915
STATUS:CONFIRMED
DTEND;TZID=Europe/Berlin:20250916
X-MICROSOFT-CDO-ALLDAYEVENT:TRUE
DTSTAMP:20260419T212357Z
CREATED:20260419T212357Z
LAST-MODIFIED:20260419T212357Z
SUMMARY:Klassen-Pflegschaft der Klassen 6\, 8\, 10 (18\:00 Uhr)
DESCRIPTION:
URL:https://aks-essen.de/intern/index.php?p=kalender&id=32015
END:VEVENT
BEGIN:VEVENT
UID:32016
DTSTART;TZID=Europe/Berlin:20250916
STATUS:CONFIRMED
DTEND;TZID=Europe/Berlin:20250917
X-MICROSOFT-CDO-ALLDAYEVENT:TRUE
DTSTAMP:20260419T212357Z
CREATED:20260419T212357Z
LAST-MODIFIED:20260419T212357Z
SUMMARY:Infoveranstaltung Skifahrt (17\:00 Uhr)
DESCRIPTION:
URL:https://aks-essen.de/intern/index.php?p=kalender&id=32016
END:VEVENT
BEGIN:VEVENT
UID:32017
DTSTART;TZID=Europe/Berlin:20250916
STATUS:CONFIRMED
DTEND;TZID=Europe/Berlin:20250917
X-MICROSOFT-CDO-ALLDAYEVENT:TRUE
DTSTAMP:20260419T212357Z
CREATED:20260419T212357Z
LAST-MODIFIED:20260419T212357Z
SUMMARY:Klassen-Pflegschaft der Klassen 5\,7\,9 (18\:00 Uhr) & EF (18\:00 Uhr)
DESCRIPTION:
URL:https://aks-essen.de/intern/index.php?p=kalender&id=32017
END:VEVENT
BEGIN:VEVENT
UID:32018
DTSTART;TZID=Europe/Berlin:20250916T095500
STATUS:CONFIRMED
DTEND;TZID=Europe/Berlin:20250916T113000
DTSTAMP:20260419T212357Z
CREATED:20260419T212357Z
LAST-MODIFIED:20260419T212357Z
SUMMARY:EF Crash-Kurs VK-Erz.
DESCRIPTION:
URL:https://aks-essen.de/intern/index.php?p=kalender&id=32018
END:VEVENT
BEGIN:VEVENT
UID:32019
DTSTART;TZID=Europe/Berlin:20250918T115000
STATUS:CONFIRMED
DTEND;TZID=Europe/Berlin:20250918T132500
DTSTAMP:20260419T212357Z
CREATED:20260419T212357Z
LAST-MODIFIED:20260419T212357Z
SUMMARY:Schülerrat
DESCRIPTION:
URL:https://aks-essen.de/intern/index.php?p=kalender&id=32019
END:VEVENT
BEGIN:VEVENT
UID:32020
DTSTART;TZID=Europe/Berlin:20250923
STATUS:CONFIRMED
DTEND;TZID=Europe/Berlin:20250924
X-MICROSOFT-CDO-ALLDAYEVENT:TRUE
DTSTAMP:20260419T212357Z
CREATED:20260419T212357Z
LAST-MODIFIED:20260419T212357Z
SUMMARY:Schulpflegschaft (18\:00 Uhr)
DESCRIPTION:
URL:https://aks-essen.de/intern/index.php?p=kalender&id=32020
END:VEVENT
BEGIN:VEVENT
UID:32021
DTSTART;TZID=Europe/Berlin:20250929
STATUS:CONFIRMED
DTEND;TZID=Europe/Berlin:20250930
X-MICROSOFT-CDO-ALLDAYEVENT:TRUE
DTSTAMP:20260419T212357Z
CREATED:20260419T212357Z
LAST-MODIFIED:20260419T212357Z
SUMMARY:Erprobungsstufenkonferenzen der Klassen 6 (13\:30 Uhr)
DESCRIPTION:
URL:https://aks-essen.de/intern/index.php?p=kalender&id=32021
END:VEVENT
BEGIN:VEVENT
UID:32022
DTSTART;TZID=Europe/Berlin:20250930
STATUS:CONFIRMED
DTEND;TZID=Europe/Berlin:20251001
X-MICROSOFT-CDO-ALLDAYEVENT:TRUE
DTSTAMP:20260419T212357Z
CREATED:20260419T212357Z
LAST-MODIFIED:20260419T212357Z
SUMMARY:Erprobungsstufenkonferenzen der Klassen 5 (13\:30 Uhr)
DESCRIPTION:
URL:https://aks-essen.de/intern/index.php?p=kalender&id=32022
END:VEVENT
BEGIN:VEVENT
UID:32024
DTSTART;TZID=Europe/Berlin:20251003
STATUS:CONFIRMED
DTEND;TZID=Europe/Berlin:20251004
X-MICROSOFT-CDO-ALLDAYEVENT:TRUE
DTSTAMP:20260419T212357Z
CREATED:20260419T212357Z
LAST-MODIFIED:20260419T212357Z
SUMMARY:Feiertag
DESCRIPTION:
URL:https://aks-essen.de/intern/index.php?p=kalender&id=32024
END:VEVENT
BEGIN:VEVENT
UID:32023
DTSTART;TZID=Europe/Berlin:20251009
STATUS:CONFIRMED
DTEND;TZID=Europe/Berlin:20251010
X-MICROSOFT-CDO-ALLDAYEVENT:TRUE
DTSTAMP:20260419T212357Z
CREATED:20260419T212357Z
LAST-MODIFIED:20260419T212357Z
SUMMARY:1. Schulkonferenz (19\:00 Uhr)
DESCRIPTION:
URL:https://aks-essen.de/intern/index.php?p=kalender&id=32023
END:VEVENT
BEGIN:VEVENT
UID:32103
DTSTART;TZID=Europe/Berlin:20251013
STATUS:CONFIRMED
DTEND;TZID=Europe/Berlin:20251025
DTSTAMP:20260419T212357Z
CREATED:20260419T212357Z
LAST-MODIFIED:20260419T212357Z
SUMMARY:Herbstferien
DESCRIPTION:
URL:https://aks-essen.de/intern/index.php?p=kalender&id=32103
END:VEVENT
BEGIN:VEVENT
UID:32025
DTSTART;TZID=Europe/Berlin:20251030
STATUS:CONFIRMED
DTEND;TZID=Europe/Berlin:20251031
X-MICROSOFT-CDO-ALLDAYEVENT:TRUE
DTSTAMP:20260419T212357Z
CREATED:20260419T212357Z
LAST-MODIFIED:20260419T212357Z
SUMMARY:Sicherheitstraining der Klasse 5a
DESCRIPTION:
URL:https://aks-essen.de/intern/index.php?p=kalender&id=32025
END:VEVENT
BEGIN:VEVENT
UID:32028
DTSTART;TZID=Europe/Berlin:20251104T080000
STATUS:CONFIRMED
DTEND;TZID=Europe/Berlin:20251104T140000
DTSTAMP:20260419T212357Z
CREATED:20260419T212357Z
LAST-MODIFIED:20260419T212357Z
SUMMARY:Mathe-Rallye der Q1 für Grundschulen
DESCRIPTION:
URL:https://aks-essen.de/intern/index.php?p=kalender&id=32028
END:VEVENT
BEGIN:VEVENT
UID:32030
DTSTART;TZID=Europe/Berlin:20251106
STATUS:CONFIRMED
DTEND;TZID=Europe/Berlin:20251107
X-MICROSOFT-CDO-ALLDAYEVENT:TRUE
DTSTAMP:20260419T212357Z
CREATED:20260419T212357Z
LAST-MODIFIED:20260419T212357Z
SUMMARY:Pädagogische Konferenz der Klasse 7 (14\:30 Uhr)
DESCRIPTION:
URL:https://aks-essen.de/intern/index.php?p=kalender&id=32030
END:VEVENT
BEGIN:VEVENT
UID:32029
DTSTART;TZID=Europe/Berlin:20251106T080000
STATUS:CONFIRMED
DTEND;TZID=Europe/Berlin:20251106T140000
DTSTAMP:20260419T212357Z
CREATED:20260419T212357Z
LAST-MODIFIED:20260419T212357Z
SUMMARY:Mathe-Rallye der Q1 für Grundschulen
DESCRIPTION:
URL:https://aks-essen.de/intern/index.php?p=kalender&id=32029
END:VEVENT
BEGIN:VEVENT
UID:32034
DTSTART;TZID=Europe/Berlin:20251110
STATUS:CONFIRMED
DTEND;TZID=Europe/Berlin:20251113
DTSTAMP:20260419T212357Z
CREATED:20260419T212357Z
LAST-MODIFIED:20260419T212357Z
SUMMARY:Kennenlernfahrt der Klasse 5a
DESCRIPTION:
URL:https://aks-essen.de/intern/index.php?p=kalender&id=32034
END:VEVENT
BEGIN:VEVENT
UID:32040
DTSTART;TZID=Europe/Berlin:20251110
STATUS:CONFIRMED
DTEND;TZID=Europe/Berlin:20251122
DTSTAMP:20260419T212357Z
CREATED:20260419T212357Z
LAST-MODIFIED:20260419T212357Z
SUMMARY:Praktikum der Jahrgangsstufe 10
DESCRIPTION:
URL:https://aks-essen.de/intern/index.php?p=kalender&id=32040
END:VEVENT
BEGIN:VEVENT
UID:32031
DTSTART;TZID=Europe/Berlin:20251111
STATUS:CONFIRMED
DTEND;TZID=Europe/Berlin:20251112
X-MICROSOFT-CDO-ALLDAYEVENT:TRUE
DTSTAMP:20260419T212357Z
CREATED:20260419T212357Z
LAST-MODIFIED:20260419T212357Z
SUMMARY:Pädagogische Konferenz der Klasse 8 (14\:30 Uhr)
DESCRIPTION:
URL:https://aks-essen.de/intern/index.php?p=kalender&id=32031
END:VEVENT
BEGIN:VEVENT
UID:32032
DTSTART;TZID=Europe/Berlin:20251113
STATUS:CONFIRMED
DTEND;TZID=Europe/Berlin:20251114
X-MICROSOFT-CDO-ALLDAYEVENT:TRUE
DTSTAMP:20260419T212357Z
CREATED:20260419T212357Z
LAST-MODIFIED:20260419T212357Z
SUMMARY:Pädagogische Konferenz der Klasse 9 (14\:30 Uhr)
DESCRIPTION:
URL:https://aks-essen.de/intern/index.php?p=kalender&id=32032
END:VEVENT
BEGIN:VEVENT
UID:32039
DTSTART;TZID=Europe/Berlin:20251113
STATUS:CONFIRMED
DTEND;TZID=Europe/Berlin:20251114
X-MICROSOFT-CDO-ALLDAYEVENT:TRUE
DTSTAMP:20260419T212357Z
CREATED:20260419T212357Z
LAST-MODIFIED:20260419T212357Z
SUMMARY:Sicherheitstraining der Klasse 5d
DESCRIPTION:
URL:https://aks-essen.de/intern/index.php?p=kalender&id=32039
END:VEVENT
BEGIN:VEVENT
UID:32041
DTSTART;TZID=Europe/Berlin:20251114
STATUS:CONFIRMED
DTEND;TZID=Europe/Berlin:20251115
X-MICROSOFT-CDO-ALLDAYEVENT:TRUE
DTSTAMP:20260419T212357Z
CREATED:20260419T212357Z
LAST-MODIFIED:20260419T212357Z
SUMMARY:Quartalsende
DESCRIPTION:
URL:https://aks-essen.de/intern/index.php?p=kalender&id=32041
END:VEVENT
BEGIN:VEVENT
UID:32038
DTSTART;TZID=Europe/Berlin:20251115
STATUS:CONFIRMED
DTEND;TZID=Europe/Berlin:20251116
X-MICROSOFT-CDO-ALLDAYEVENT:TRUE
DTSTAMP:20260419T212357Z
CREATED:20260419T212357Z
LAST-MODIFIED:20260419T212357Z
SUMMARY:Tag der offenen Tür (10\:00-14\:00 Uhr)
DESCRIPTION:
URL:https://aks-essen.de/intern/index.php?p=kalender&id=32038
END:VEVENT
BEGIN:VEVENT
UID:32035
DTSTART;TZID=Europe/Berlin:20251117
STATUS:CONFIRMED
DTEND;TZID=Europe/Berlin:20251120
DTSTAMP:20260419T212357Z
CREATED:20260419T212357Z
LAST-MODIFIED:20260419T212357Z
SUMMARY:Kennenlernfahrt der Klasse 5b
DESCRIPTION:
URL:https://aks-essen.de/intern/index.php?p=kalender&id=32035
END:VEVENT
BEGIN:VEVENT
UID:32033
DTSTART;TZID=Europe/Berlin:20251117
STATUS:CONFIRMED
DTEND;TZID=Europe/Berlin:20251118
X-MICROSOFT-CDO-ALLDAYEVENT:TRUE
DTSTAMP:20260419T212357Z
CREATED:20260419T212357Z
LAST-MODIFIED:20260419T212357Z
SUMMARY:Pädagogische Konferenz der Klasse 10 (14\:30 Uhr)
DESCRIPTION:
URL:https://aks-essen.de/intern/index.php?p=kalender&id=32033
END:VEVENT
BEGIN:VEVENT
UID:32042
DTSTART;TZID=Europe/Berlin:20251118
STATUS:CONFIRMED
DTEND;TZID=Europe/Berlin:20251119
X-MICROSOFT-CDO-ALLDAYEVENT:TRUE
DTSTAMP:20260419T212357Z
CREATED:20260419T212357Z
LAST-MODIFIED:20260419T212357Z
SUMMARY:Jahrgangsstufe Q1 - Universität
DESCRIPTION:
URL:https://aks-essen.de/intern/index.php?p=kalender&id=32042
END:VEVENT
BEGIN:VEVENT
UID:32036
DTSTART;TZID=Europe/Berlin:20251119
STATUS:CONFIRMED
DTEND;TZID=Europe/Berlin:20251122
DTSTAMP:20260419T212357Z
CREATED:20260419T212357Z
LAST-MODIFIED:20260419T212357Z
SUMMARY:Kennenlernfahrt der Klasse 5c
DESCRIPTION:
URL:https://aks-essen.de/intern/index.php?p=kalender&id=32036
END:VEVENT
BEGIN:VEVENT
UID:32043
DTSTART;TZID=Europe/Berlin:20251122
STATUS:CONFIRMED
DTEND;TZID=Europe/Berlin:20251124
DTSTAMP:20260419T212357Z
CREATED:20260419T212357Z
LAST-MODIFIED:20260419T212357Z
SUMMARY:Kollegiumsfortbildung Ypern
DESCRIPTION:
URL:https://aks-essen.de/intern/index.php?p=kalender&id=32043
END:VEVENT
BEGIN:VEVENT
UID:32037
DTSTART;TZID=Europe/Berlin:20251124
STATUS:CONFIRMED
DTEND;TZID=Europe/Berlin:20251127
DTSTAMP:20260419T212357Z
CREATED:20260419T212357Z
LAST-MODIFIED:20260419T212357Z
SUMMARY:Kennenlernfahrt der Klasse 5d
DESCRIPTION:
URL:https://aks-essen.de/intern/index.php?p=kalender&id=32037
END:VEVENT
BEGIN:VEVENT
UID:32044
DTSTART;TZID=Europe/Berlin:20251126T080000
STATUS:CONFIRMED
DTEND;TZID=Europe/Berlin:20251126T113000
DTSTAMP:20260419T212357Z
CREATED:20260419T212357Z
LAST-MODIFIED:20260419T212357Z
SUMMARY:Bewerber-Training der Debeka Kl 10
DESCRIPTION:
URL:https://aks-essen.de/intern/index.php?p=kalender&id=32044
END:VEVENT
BEGIN:VEVENT
UID:32045
DTSTART;TZID=Europe/Berlin:20251128
STATUS:CONFIRMED
DTEND;TZID=Europe/Berlin:20251129
X-MICROSOFT-CDO-ALLDAYEVENT:TRUE
DTSTAMP:20260419T212357Z
CREATED:20260419T212357Z
LAST-MODIFIED:20260419T212357Z
SUMMARY:Elternsprechtag 14\:30 Uhr – 18\:30 Uhr
DESCRIPTION:
URL:https://aks-essen.de/intern/index.php?p=kalender&id=32045
END:VEVENT
BEGIN:VEVENT
UID:32046
DTSTART;TZID=Europe/Berlin:20251201
STATUS:CONFIRMED
DTEND;TZID=Europe/Berlin:20251202
X-MICROSOFT-CDO-ALLDAYEVENT:TRUE
DTSTAMP:20260419T212357Z
CREATED:20260419T212357Z
LAST-MODIFIED:20260419T212357Z
SUMMARY:Einst.El. 8a
DESCRIPTION:
URL:https://aks-essen.de/intern/index.php?p=kalender&id=32046
END:VEVENT
BEGIN:VEVENT
UID:32026
DTSTART;TZID=Europe/Berlin:20251202
STATUS:CONFIRMED
DTEND;TZID=Europe/Berlin:20251203
X-MICROSOFT-CDO-ALLDAYEVENT:TRUE
DTSTAMP:20260419T212357Z
CREATED:20260419T212357Z
LAST-MODIFIED:20260419T212357Z
SUMMARY:Sicherheitstraining der Klasse 5b
DESCRIPTION:
URL:https://aks-essen.de/intern/index.php?p=kalender&id=32026
END:VEVENT
BEGIN:VEVENT
UID:32047
DTSTART;TZID=Europe/Berlin:20251203
STATUS:CONFIRMED
DTEND;TZID=Europe/Berlin:20251204
X-MICROSOFT-CDO-ALLDAYEVENT:TRUE
DTSTAMP:20260419T212357Z
CREATED:20260419T212357Z
LAST-MODIFIED:20260419T212357Z
SUMMARY:Einst.El. 8b
DESCRIPTION:
URL:https://aks-essen.de/intern/index.php?p=kalender&id=32047
END:VEVENT
BEGIN:VEVENT
UID:32027
DTSTART;TZID=Europe/Berlin:20251203
STATUS:CONFIRMED
DTEND;TZID=Europe/Berlin:20251204
X-MICROSOFT-CDO-ALLDAYEVENT:TRUE
DTSTAMP:20260419T212357Z
CREATED:20260419T212357Z
LAST-MODIFIED:20260419T212357Z
SUMMARY:Sicherheitstraining der Klasse 5c
DESCRIPTION:
URL:https://aks-essen.de/intern/index.php?p=kalender&id=32027
END:VEVENT
BEGIN:VEVENT
UID:32048
DTSTART;TZID=Europe/Berlin:20251204
STATUS:CONFIRMED
DTEND;TZID=Europe/Berlin:20251205
X-MICROSOFT-CDO-ALLDAYEVENT:TRUE
DTSTAMP:20260419T212357Z
CREATED:20260419T212357Z
LAST-MODIFIED:20260419T212357Z
SUMMARY:Einst.El. 8c
DESCRIPTION:
URL:https://aks-essen.de/intern/index.php?p=kalender&id=32048
END:VEVENT
BEGIN:VEVENT
UID:32049
DTSTART;TZID=Europe/Berlin:20251205T080000
STATUS:CONFIRMED
DTEND;TZID=Europe/Berlin:20251205T113000
DTSTAMP:20260419T212357Z
CREATED:20260419T212357Z
LAST-MODIFIED:20260419T212357Z
SUMMARY:Vorlese-Wettbewerb
DESCRIPTION:
URL:https://aks-essen.de/intern/index.php?p=kalender&id=32049
END:VEVENT
BEGIN:VEVENT
UID:32050
DTSTART;TZID=Europe/Berlin:20251209
STATUS:CONFIRMED
DTEND;TZID=Europe/Berlin:20251210
X-MICROSOFT-CDO-ALLDAYEVENT:TRUE
DTSTAMP:20260419T212357Z
CREATED:20260419T212357Z
LAST-MODIFIED:20260419T212357Z
SUMMARY:3. Lehrerkonferenz
DESCRIPTION:
URL:https://aks-essen.de/intern/index.php?p=kalender&id=32050
END:VEVENT
BEGIN:VEVENT
UID:32051
DTSTART;TZID=Europe/Berlin:20251209
STATUS:CONFIRMED
DTEND;TZID=Europe/Berlin:20251210
X-MICROSOFT-CDO-ALLDAYEVENT:TRUE
DTSTAMP:20260419T212357Z
CREATED:20260419T212357Z
LAST-MODIFIED:20260419T212357Z
SUMMARY:Info Grundschule (19\:00 Uhr)
DESCRIPTION:
URL:https://aks-essen.de/intern/index.php?p=kalender&id=32051
END:VEVENT
BEGIN:VEVENT
UID:32052
DTSTART;TZID=Europe/Berlin:20251209
STATUS:CONFIRMED
DTEND;TZID=Europe/Berlin:20251210
X-MICROSOFT-CDO-ALLDAYEVENT:TRUE
DTSTAMP:20260419T212357Z
CREATED:20260419T212357Z
LAST-MODIFIED:20260419T212357Z
SUMMARY:Info Soziales-Lernen Jahrgangsstufe 9 (19.00 Uhr)
DESCRIPTION:
URL:https://aks-essen.de/intern/index.php?p=kalender&id=32052
END:VEVENT
BEGIN:VEVENT
UID:32053
DTSTART;TZID=Europe/Berlin:20251212
STATUS:CONFIRMED
DTEND;TZID=Europe/Berlin:20251213
X-MICROSOFT-CDO-ALLDAYEVENT:TRUE
DTSTAMP:20260419T212357Z
CREATED:20260419T212357Z
LAST-MODIFIED:20260419T212357Z
SUMMARY:Weihnachtskonzert I (19\:00 Uhr)
DESCRIPTION:
URL:https://aks-essen.de/intern/index.php?p=kalender&id=32053
END:VEVENT
BEGIN:VEVENT
UID:32054
DTSTART;TZID=Europe/Berlin:20251213
STATUS:CONFIRMED
DTEND;TZID=Europe/Berlin:20251214
X-MICROSOFT-CDO-ALLDAYEVENT:TRUE
DTSTAMP:20260419T212357Z
CREATED:20260419T212357Z
LAST-MODIFIED:20260419T212357Z
SUMMARY:Weihnachtskonzert II (19\:00 Uhr)
DESCRIPTION:
URL:https://aks-essen.de/intern/index.php?p=kalender&id=32054
END:VEVENT
BEGIN:VEVENT
UID:32055
DTSTART;TZID=Europe/Berlin:20251215
STATUS:CONFIRMED
DTEND;TZID=Europe/Berlin:20251216
X-MICROSOFT-CDO-ALLDAYEVENT:TRUE
DTSTAMP:20260419T212357Z
CREATED:20260419T212357Z
LAST-MODIFIED:20260419T212357Z
SUMMARY:Weihnachtskonzert für Grundschulen (10\:00 Uhr)
DESCRIPTION:
URL:https://aks-essen.de/intern/index.php?p=kalender&id=32055
END:VEVENT
BEGIN:VEVENT
UID:32056
DTSTART;TZID=Europe/Berlin:20251219T080000
STATUS:CONFIRMED
DTEND;TZID=Europe/Berlin:20251219T084500
DTSTAMP:20260419T212357Z
CREATED:20260419T212357Z
LAST-MODIFIED:20260419T212357Z
SUMMARY:1. Frühschicht der Jahrgangsstufen 5-6
DESCRIPTION:
URL:https://aks-essen.de/intern/index.php?p=kalender&id=32056
END:VEVENT
BEGIN:VEVENT
UID:32057
DTSTART;TZID=Europe/Berlin:20260113
STATUS:CONFIRMED
DTEND;TZID=Europe/Berlin:20260114
X-MICROSOFT-CDO-ALLDAYEVENT:TRUE
DTSTAMP:20260419T212357Z
CREATED:20260419T212357Z
LAST-MODIFIED:20260419T212357Z
SUMMARY:4. Lehrerkonferenz
DESCRIPTION:
URL:https://aks-essen.de/intern/index.php?p=kalender&id=32057
END:VEVENT
BEGIN:VEVENT
UID:32058
DTSTART;TZID=Europe/Berlin:20260115
STATUS:CONFIRMED
DTEND;TZID=Europe/Berlin:20260116
X-MICROSOFT-CDO-ALLDAYEVENT:TRUE
DTSTAMP:20260419T212357Z
CREATED:20260419T212357Z
LAST-MODIFIED:20260419T212357Z
SUMMARY:Schnupper-Unterricht Grundschüler 15\:00 Uhr -17\:00 Uhr
DESCRIPTION:
URL:https://aks-essen.de/intern/index.php?p=kalender&id=32058
END:VEVENT
BEGIN:VEVENT
UID:32060
DTSTART;TZID=Europe/Berlin:20260127
STATUS:CONFIRMED
DTEND;TZID=Europe/Berlin:20260128
X-MICROSOFT-CDO-ALLDAYEVENT:TRUE
DTSTAMP:20260419T212357Z
CREATED:20260419T212357Z
LAST-MODIFIED:20260419T212357Z
SUMMARY:Zeugniskonf. Jgst. EF\, 5-6
DESCRIPTION:
URL:https://aks-essen.de/intern/index.php?p=kalender&id=32060
END:VEVENT
BEGIN:VEVENT
UID:32059
DTSTART;TZID=Europe/Berlin:20260128
STATUS:CONFIRMED
DTEND;TZID=Europe/Berlin:20260129
X-MICROSOFT-CDO-ALLDAYEVENT:TRUE
DTSTAMP:20260419T212357Z
CREATED:20260419T212357Z
LAST-MODIFIED:20260419T212357Z
SUMMARY:Zeugniskonf. Jgst. Q1\, 7-10
DESCRIPTION:
URL:https://aks-essen.de/intern/index.php?p=kalender&id=32059
END:VEVENT
BEGIN:VEVENT
UID:32062
DTSTART;TZID=Europe/Berlin:20260203
STATUS:CONFIRMED
DTEND;TZID=Europe/Berlin:20260204
X-MICROSOFT-CDO-ALLDAYEVENT:TRUE
DTSTAMP:20260419T212357Z
CREATED:20260419T212357Z
LAST-MODIFIED:20260419T212357Z
SUMMARY:Besuch FOM der Jgst. Q1
DESCRIPTION:
URL:https://aks-essen.de/intern/index.php?p=kalender&id=32062
END:VEVENT
BEGIN:VEVENT
UID:32061
DTSTART;TZID=Europe/Berlin:20260203T080000
STATUS:CONFIRMED
DTEND;TZID=Europe/Berlin:20260203T132500
DTSTAMP:20260419T212357Z
CREATED:20260419T212357Z
LAST-MODIFIED:20260419T212357Z
SUMMARY:Hühnerballtourn. Klasse 5
DESCRIPTION:
URL:https://aks-essen.de/intern/index.php?p=kalender&id=32061
END:VEVENT
BEGIN:VEVENT
UID:32063
DTSTART;TZID=Europe/Berlin:20260206
STATUS:CONFIRMED
DTEND;TZID=Europe/Berlin:20260207
X-MICROSOFT-CDO-ALLDAYEVENT:TRUE
DTSTAMP:20260419T212357Z
CREATED:20260419T212357Z
LAST-MODIFIED:20260419T212357Z
SUMMARY:Ende 1. Halbjahr (Zeugnisausgabe in der 3. Std.)
DESCRIPTION:
URL:https://aks-essen.de/intern/index.php?p=kalender&id=32063
END:VEVENT
BEGIN:VEVENT
UID:32064
DTSTART;TZID=Europe/Berlin:20260207
STATUS:CONFIRMED
DTEND;TZID=Europe/Berlin:20260212
DTSTAMP:20260419T212357Z
CREATED:20260419T212357Z
LAST-MODIFIED:20260419T212357Z
SUMMARY:Anmeldungen
DESCRIPTION:
URL:https://aks-essen.de/intern/index.php?p=kalender&id=32064
END:VEVENT
BEGIN:VEVENT
UID:32397
DTSTART;TZID=Europe/Berlin:20260209
STATUS:CONFIRMED
DTEND;TZID=Europe/Berlin:20260210
X-MICROSOFT-CDO-ALLDAYEVENT:TRUE
DTSTAMP:20260419T212357Z
CREATED:20260419T212357Z
LAST-MODIFIED:20260419T212357Z
SUMMARY:Start Anmeldungen zur gymnasialen Oberstufe (EF)
DESCRIPTION:
URL:https://aks-essen.de/intern/index.php?p=kalender&id=32397
END:VEVENT
BEGIN:VEVENT
UID:32388
DTSTART;TZID=Europe/Berlin:20260212
STATUS:CONFIRMED
DTEND;TZID=Europe/Berlin:20260213
X-MICROSOFT-CDO-ALLDAYEVENT:TRUE
DTSTAMP:20260419T212357Z
CREATED:20260419T212357Z
LAST-MODIFIED:20260419T212357Z
SUMMARY:Karnevalsparty der SV
DESCRIPTION:
URL:https://aks-essen.de/intern/index.php?p=kalender&id=32388
END:VEVENT
BEGIN:VEVENT
UID:32528
DTSTART;TZID=Europe/Berlin:20260226
STATUS:CONFIRMED
DTEND;TZID=Europe/Berlin:20260227
X-MICROSOFT-CDO-ALLDAYEVENT:TRUE
DTSTAMP:20260419T212357Z
CREATED:20260419T212357Z
LAST-MODIFIED:20260419T212357Z
SUMMARY:Lernstandserhebungen Mathematik Jgst.8
DESCRIPTION:
URL:https://aks-essen.de/intern/index.php?p=kalender&id=32528
END:VEVENT
BEGIN:VEVENT
UID:32529
DTSTART;TZID=Europe/Berlin:20260302
STATUS:CONFIRMED
DTEND;TZID=Europe/Berlin:20260303
X-MICROSOFT-CDO-ALLDAYEVENT:TRUE
DTSTAMP:20260419T212357Z
CREATED:20260419T212357Z
LAST-MODIFIED:20260419T212357Z
SUMMARY:Lernstandserhebungen Englisch Jgst.8
DESCRIPTION:
URL:https://aks-essen.de/intern/index.php?p=kalender&id=32529
END:VEVENT
BEGIN:VEVENT
UID:32530
DTSTART;TZID=Europe/Berlin:20260312
STATUS:CONFIRMED
DTEND;TZID=Europe/Berlin:20260313
X-MICROSOFT-CDO-ALLDAYEVENT:TRUE
DTSTAMP:20260419T212357Z
CREATED:20260419T212357Z
LAST-MODIFIED:20260419T212357Z
SUMMARY:Lernstandserhebungen Deutsch Jgst.8
DESCRIPTION:
URL:https://aks-essen.de/intern/index.php?p=kalender&id=32530
END:VEVENT
BEGIN:VEVENT
UID:32588
DTSTART;TZID=Europe/Berlin:20260317
STATUS:CONFIRMED
DTEND;TZID=Europe/Berlin:20260318
X-MICROSOFT-CDO-ALLDAYEVENT:TRUE
DTSTAMP:20260419T212357Z
CREATED:20260419T212357Z
LAST-MODIFIED:20260419T212357Z
SUMMARY:Infoabend WPII 18\:30 Uhr
DESCRIPTION:
URL:https://aks-essen.de/intern/index.php?p=kalender&id=32588
END:VEVENT
BEGIN:VEVENT
UID:32581
DTSTART;TZID=Europe/Berlin:20260317T180000
STATUS:CONFIRMED
DTEND;TZID=Europe/Berlin:20260317T191500
DTSTAMP:20260419T212357Z
CREATED:20260419T212357Z
LAST-MODIFIED:20260419T212357Z
SUMMARY:Informationsabend zur gymnasialen Oberstufe für Realschüler/Neuschüler
DESCRIPTION:
URL:https://aks-essen.de/intern/index.php?p=kalender&id=32581
END:VEVENT
BEGIN:VEVENT
UID:32582
DTSTART;TZID=Europe/Berlin:20260317T193000
STATUS:CONFIRMED
DTEND;TZID=Europe/Berlin:20260317T210000
DTSTAMP:20260419T212357Z
CREATED:20260419T212357Z
LAST-MODIFIED:20260419T212357Z
SUMMARY:Informationsabend zur gymnasialen Oberstufe für alle Schülerinnen und Schüler der Klassen 10
DESCRIPTION:
URL:https://aks-essen.de/intern/index.php?p=kalender&id=32582
END:VEVENT
BEGIN:VEVENT
UID:32531
DTSTART;TZID=Europe/Berlin:20260318
STATUS:CONFIRMED
DTEND;TZID=Europe/Berlin:20260319
X-MICROSOFT-CDO-ALLDAYEVENT:TRUE
DTSTAMP:20260419T212357Z
CREATED:20260419T212357Z
LAST-MODIFIED:20260419T212357Z
SUMMARY:SchülerInnen-Sprechtag in der Jgst.10
DESCRIPTION:
URL:https://aks-essen.de/intern/index.php?p=kalender&id=32531
END:VEVENT
BEGIN:VEVENT
UID:32583
DTSTART;TZID=Europe/Berlin:20260318T152000
STATUS:CONFIRMED
DTEND;TZID=Europe/Berlin:20260318T152500
DTSTAMP:20260419T212357Z
CREATED:20260419T212357Z
LAST-MODIFIED:20260419T212357Z
SUMMARY:Informationsabend zur gymnasialen Oberstufe für alle Schülerinnen und Schüler der EF
DESCRIPTION:
URL:https://aks-essen.de/intern/index.php?p=kalender&id=32583
END:VEVENT
BEGIN:VEVENT
UID:32532
DTSTART;TZID=Europe/Berlin:20260319
STATUS:CONFIRMED
DTEND;TZID=Europe/Berlin:20260320
X-MICROSOFT-CDO-ALLDAYEVENT:TRUE
DTSTAMP:20260419T212357Z
CREATED:20260419T212357Z
LAST-MODIFIED:20260419T212357Z
SUMMARY:Känguru-Wettbewerb für Jgst.5+6
DESCRIPTION:
URL:https://aks-essen.de/intern/index.php?p=kalender&id=32532
END:VEVENT
BEGIN:VEVENT
UID:32523
DTSTART;TZID=Europe/Berlin:20260330
STATUS:CONFIRMED
DTEND;TZID=Europe/Berlin:20260411
DTSTAMP:20260419T212357Z
CREATED:20260419T212357Z
LAST-MODIFIED:20260419T212357Z
SUMMARY:Osterferien
DESCRIPTION:
URL:https://aks-essen.de/intern/index.php?p=kalender&id=32523
END:VEVENT
BEGIN:VEVENT
UID:32533
DTSTART;TZID=Europe/Berlin:20260424
STATUS:CONFIRMED
DTEND;TZID=Europe/Berlin:20260425
X-MICROSOFT-CDO-ALLDAYEVENT:TRUE
DTSTAMP:20260419T212357Z
CREATED:20260419T212357Z
LAST-MODIFIED:20260419T212357Z
SUMMARY:Feierliche Eröffnung des Containers ''Stolen Memory'' der Arolsen Archive um 13Uhr
DESCRIPTION:
URL:https://aks-essen.de/intern/index.php?p=kalender&id=32533
END:VEVENT
BEGIN:VEVENT
UID:32635
DTSTART;TZID=Europe/Berlin:20260427
STATUS:CONFIRMED
DTEND;TZID=Europe/Berlin:20260501
DTSTAMP:20260419T212357Z
CREATED:20260419T212357Z
LAST-MODIFIED:20260419T212357Z
SUMMARY:Projektwoche ''Hidden Talents''
DESCRIPTION:
URL:https://aks-essen.de/intern/index.php?p=kalender&id=32635
END:VEVENT
BEGIN:VEVENT
UID:32535
DTSTART;TZID=Europe/Berlin:20260508
STATUS:CONFIRMED
DTEND;TZID=Europe/Berlin:20260509
X-MICROSOFT-CDO-ALLDAYEVENT:TRUE
DTSTAMP:20260419T212357Z
CREATED:20260419T212357Z
LAST-MODIFIED:20260419T212357Z
SUMMARY:Elternsprechtag
DESCRIPTION:
URL:https://aks-essen.de/intern/index.php?p=kalender&id=32535
END:VEVENT
BEGIN:VEVENT
UID:32534
DTSTART;TZID=Europe/Berlin:20260508
STATUS:CONFIRMED
DTEND;TZID=Europe/Berlin:20260509
X-MICROSOFT-CDO-ALLDAYEVENT:TRUE
DTSTAMP:20260419T212357Z
CREATED:20260419T212357Z
LAST-MODIFIED:20260419T212357Z
SUMMARY:Lesung Kurt Tallert (öffentliche Abendveranstaltung) ab 19\:30
DESCRIPTION:
URL:https://aks-essen.de/intern/index.php?p=kalender&id=32534
END:VEVENT
BEGIN:VEVENT
UID:32536
DTSTART;TZID=Europe/Berlin:20260513
STATUS:CONFIRMED
DTEND;TZID=Europe/Berlin:20260514
X-MICROSOFT-CDO-ALLDAYEVENT:TRUE
DTSTAMP:20260419T212357Z
CREATED:20260419T212357Z
LAST-MODIFIED:20260419T212357Z
SUMMARY:Zentrale Prüfungen 10 im Fach Deutsch
DESCRIPTION:
URL:https://aks-essen.de/intern/index.php?p=kalender&id=32536
END:VEVENT
BEGIN:VEVENT
UID:32537
DTSTART;TZID=Europe/Berlin:20260519
STATUS:CONFIRMED
DTEND;TZID=Europe/Berlin:20260520
X-MICROSOFT-CDO-ALLDAYEVENT:TRUE
DTSTAMP:20260419T212357Z
CREATED:20260419T212357Z
LAST-MODIFIED:20260419T212357Z
SUMMARY:Zentrale Prüfungen 10 im Fach Englisch
DESCRIPTION:
URL:https://aks-essen.de/intern/index.php?p=kalender&id=32537
END:VEVENT
BEGIN:VEVENT
UID:32538
DTSTART;TZID=Europe/Berlin:20260528
STATUS:CONFIRMED
DTEND;TZID=Europe/Berlin:20260529
X-MICROSOFT-CDO-ALLDAYEVENT:TRUE
DTSTAMP:20260419T212357Z
CREATED:20260419T212357Z
LAST-MODIFIED:20260419T212357Z
SUMMARY:Zentrale Prüfungen 10 im Fach Mathematik
DESCRIPTION:
URL:https://aks-essen.de/intern/index.php?p=kalender&id=32538
END:VEVENT
BEGIN:VEVENT
UID:32539
DTSTART;TZID=Europe/Berlin:20260720
STATUS:CONFIRMED
DTEND;TZID=Europe/Berlin:20260902
DTSTAMP:20260419T212357Z
CREATED:20260419T212357Z
LAST-MODIFIED:20260419T212357Z
SUMMARY:Sommerferien NRW
DESCRIPTION:
URL:https://aks-essen.de/intern/index.php?p=kalender&id=32539
END:VEVENT
BEGIN:VTIMEZONE
TZID:Europe/Berlin
X-LIC-LOCATION:Europe/Berlin
BEGIN:DAYLIGHT
TZNAME:CEST
TZOFFSETFROM:+0100
TZOFFSETTO:+0200
DTSTART:19810329T030000
RRULE:FREQ=YEARLY;INTERVAL=1;BYMONTH=3;BYDAY=-1SU
END:DAYLIGHT
BEGIN:STANDARD
TZNAME:CET
TZOFFSETFROM:+0200
TZOFFSETTO:+0100
DTSTART:19961027T030000
RRULE:FREQ=YEARLY;INTERVAL=1;BYMONTH=10;BYDAY=-1SU
END:STANDARD
END:VTIMEZONE
END:VCALENDAR